BEGIN:VCALENDAR
VERSION:2.0
PRODID:-//OJ Medtech, Inc. - ECPv6.14.2//NONSGML v1.0//EN
CALSCALE:GREGORIAN
METHOD:PUBLISH
X-WR-CALNAME:OJ Medtech, Inc.
X-ORIGINAL-URL:http://www.ojmedtech.com
X-WR-CALDESC:Events for OJ Medtech, Inc.
REFRESH-INTERVAL;VALUE=DURATION:PT1H
X-Robots-Tag:noindex
X-PUBLISHED-TTL:PT1H
BEGIN:VTIMEZONE
TZID:America/New_York
BEGIN:DAYLIGHT
TZOFFSETFROM:-0500
TZOFFSETTO:-0400
TZNAME:EDT
DTSTART:20150308T070000
END:DAYLIGHT
BEGIN:STANDARD
TZOFFSETFROM:-0400
TZOFFSETTO:-0500
TZNAME:EST
DTSTART:20151101T060000
END:STANDARD
END:VTIMEZONE
BEGIN:VEVENT
DTSTART;TZID=America/New_York:20150818T100000
DTEND;TZID=America/New_York:20150819T200000
DTSTAMP:20260421T143530
CREATED:20150720T152812Z
LAST-MODIFIED:20150720T152812Z
UID:985-1439892000-1440014400@www.ojmedtech.com
SUMMARY:6th BBBB Conference on Pharmaceutical Sciences
DESCRIPTION:Et harum quidem rerum facilis est et expedita distinctio. But I must explain to you how all this mistaken idea of denouncing pleasure and praising pain was born and I will give you a complete account of the system\, and expound the actual teachings of the great explorer of the truth\, the master-builder of human happiness. No one rejects\, dislikes\, or avoids pleasure itself\, because it is pleasure\, but because those who do not know how to pursue pleasure rationally encounter consequences that are extremely painful. Nor again is there anyone who loves or pursues or desires to obtain pain of itself\, because it is pain\, but because occasionally circumstances occur in which toil and pain can procure him some great pleasure. To take a trivial example\, which of us ever undertakes laborious physical exercise\, except to obtain some advantage from it? But who has any right to find fault with a man who chooses to enjoy a pleasure that has no annoying consequences\, or one who avoids a pain that produces no resultant pleasure?
URL:/event/6th-bbbb-conference-on-pharmaceutical-sciences/
LOCATION:University of Helsinki\, Helsinki\, Finland
CATEGORIES:Chemistry,Health Science,Pharmacy & Pharmacology
END:VEVENT
BEGIN:VEVENT
DTSTART;TZID=America/New_York:20150818T100000
DTEND;TZID=America/New_York:20150819T200000
DTSTAMP:20260421T143530
CREATED:20150720T152812Z
LAST-MODIFIED:20150720T152812Z
UID:2734-1439892000-1440014400@www.ojmedtech.com
SUMMARY:6th BBBB Conference on Pharmaceutical Sciences
DESCRIPTION:Et harum quidem rerum facilis est et expedita distinctio. But I must explain to you how all this mistaken idea of denouncing pleasure and praising pain was born and I will give you a complete account of the system\, and expound the actual teachings of the great explorer of the truth\, the master-builder of human happiness. No one rejects\, dislikes\, or avoids pleasure itself\, because it is pleasure\, but because those who do not know how to pursue pleasure rationally encounter consequences that are extremely painful. Nor again is there anyone who loves or pursues or desires to obtain pain of itself\, because it is pain\, but because occasionally circumstances occur in which toil and pain can procure him some great pleasure. To take a trivial example\, which of us ever undertakes laborious physical exercise\, except to obtain some advantage from it? But who has any right to find fault with a man who chooses to enjoy a pleasure that has no annoying consequences\, or one who avoids a pain that produces no resultant pleasure?
URL:/event/6th-bbbb-conference-on-pharmaceutical-sciences-2/
LOCATION:University of Helsinki\, Helsinki\, Finland
CATEGORIES:Chemistry,Health Science,Pharmacy & Pharmacology
END:VEVENT
BEGIN:VEVENT
DTSTART;TZID=America/New_York:20150814T110000
DTEND;TZID=America/New_York:20150814T200000
DTSTAMP:20260421T143530
CREATED:20150720T150854Z
LAST-MODIFIED:20150720T150854Z
UID:977-1439550000-1439582400@www.ojmedtech.com
SUMMARY:1-day Introduction to Heart-cutting
DESCRIPTION:To take a trivial example\, which of us ever undertakes laborious physical exercise\, except to obtain some advantage from it? But who has any right to find fault with a man who chooses to enjoy a pleasure that has no annoying consequences\, or one who avoids a pain that produces no resultant pleasure? But I must explain to you how all this mistaken idea of denouncing pleasure and praising pain was born and I will give you a complete account of the system\, and expound the actual teachings of the great explorer of the truth\, the master-builder of human happiness. No one rejects\, dislikes\, or avoids pleasure itself\, because it is pleasure\, but because those who do not know how to pursue pleasure rationally encounter consequences that are extremely painful. Nor again is there anyone who loves or pursues or desires to obtain pain of itself\, because it is pain\, but because occasionally circumstances occur in which toil and pain can procure him some great pleasure.
URL:/event/1-day-introduction-to-heart-cutting/
LOCATION:The Open University\, Milton Keynes\, United Kingdom
CATEGORIES:Chemistry,Health Science
END:VEVENT
BEGIN:VEVENT
DTSTART;TZID=America/New_York:20150814T110000
DTEND;TZID=America/New_York:20150814T200000
DTSTAMP:20260421T143530
CREATED:20150720T150854Z
LAST-MODIFIED:20150720T150854Z
UID:2731-1439550000-1439582400@www.ojmedtech.com
SUMMARY:1-day Introduction to Heart-cutting
DESCRIPTION:To take a trivial example\, which of us ever undertakes laborious physical exercise\, except to obtain some advantage from it? But who has any right to find fault with a man who chooses to enjoy a pleasure that has no annoying consequences\, or one who avoids a pain that produces no resultant pleasure? But I must explain to you how all this mistaken idea of denouncing pleasure and praising pain was born and I will give you a complete account of the system\, and expound the actual teachings of the great explorer of the truth\, the master-builder of human happiness. No one rejects\, dislikes\, or avoids pleasure itself\, because it is pleasure\, but because those who do not know how to pursue pleasure rationally encounter consequences that are extremely painful. Nor again is there anyone who loves or pursues or desires to obtain pain of itself\, because it is pain\, but because occasionally circumstances occur in which toil and pain can procure him some great pleasure.
URL:/event/1-day-introduction-to-heart-cutting-2/
LOCATION:The Open University\, Milton Keynes\, United Kingdom
CATEGORIES:Chemistry,Health Science
END:VEVENT
BEGIN:VEVENT
DTSTART;TZID=America/New_York:20150807T100000
DTEND;TZID=America/New_York:20150807T150000
DTSTAMP:20260421T143530
CREATED:20150720T150343Z
LAST-MODIFIED:20150720T150343Z
UID:975-1438941600-1438959600@www.ojmedtech.com
SUMMARY:Pain Care for Primary Care (PCPC)
DESCRIPTION:Et harum quidem rerum facilis est et expedita distinctio. Nam libero tempore\, cum soluta nobis est eligendi optio cumque nihil impedit quo minus id quod maxime placeat facere possimus\, omnis voluptas assumenda est\, omnis dolor repellendus. Temporibus autem quibusdam et aut officiis debitis aut rerum necessitatibus saepe eveniet ut et voluptates repudiandae sint et molestiae non recusandae. Itaque earum rerum hic tenetur a sapiente delectus\, ut aut reiciendis voluptatibus maiores alias consequatur aut perferendis doloribus asperiores repellat. At vero eos et accusamus et iusto odio dignissimos ducimus qui blanditiis praesentium voluptatum deleniti atque corrupti quos dolores et quas molestias excepturi sint occaecati cupiditate non provident\, similique sunt in culpa qui officia deserunt mollitia animi\, id est laborum et dolorum fuga.
URL:/event/pain-care-for-primary-care-pcpc/
LOCATION:Walt Disney World Swan\, NV\, United States
CATEGORIES:Emergency Medicine,Health Science
ATTACH;FMTTYPE=image/jpeg:/wp-content/uploads/2015/07/031.jpg
END:VEVENT
BEGIN:VEVENT
DTSTART;TZID=America/New_York:20150807T100000
DTEND;TZID=America/New_York:20150807T150000
DTSTAMP:20260421T143530
CREATED:20150720T150343Z
LAST-MODIFIED:20150720T150343Z
UID:2730-1438941600-1438959600@www.ojmedtech.com
SUMMARY:Pain Care for Primary Care (PCPC)
DESCRIPTION:Et harum quidem rerum facilis est et expedita distinctio. Nam libero tempore\, cum soluta nobis est eligendi optio cumque nihil impedit quo minus id quod maxime placeat facere possimus\, omnis voluptas assumenda est\, omnis dolor repellendus. Temporibus autem quibusdam et aut officiis debitis aut rerum necessitatibus saepe eveniet ut et voluptates repudiandae sint et molestiae non recusandae. Itaque earum rerum hic tenetur a sapiente delectus\, ut aut reiciendis voluptatibus maiores alias consequatur aut perferendis doloribus asperiores repellat. At vero eos et accusamus et iusto odio dignissimos ducimus qui blanditiis praesentium voluptatum deleniti atque corrupti quos dolores et quas molestias excepturi sint occaecati cupiditate non provident\, similique sunt in culpa qui officia deserunt mollitia animi\, id est laborum et dolorum fuga.
URL:/event/pain-care-for-primary-care-pcpc-2/
LOCATION:Walt Disney World Swan\, NV\, United States
CATEGORIES:Emergency Medicine,Health Science
ATTACH;FMTTYPE=image/jpeg:/wp-content/uploads/2015/07/031.jpg
END:VEVENT
BEGIN:VEVENT
DTSTART;TZID=America/New_York:20150801T110000
DTEND;TZID=America/New_York:20150802T140000
DTSTAMP:20260421T143530
CREATED:20150720T132516Z
LAST-MODIFIED:20150720T132516Z
UID:965-1438426800-1438524000@www.ojmedtech.com
SUMMARY:Pharmacy and Pharmaceutical Sciences Conference 2015
DESCRIPTION:But I must explain to you how all this mistaken idea of denouncing pleasure and praising pain was born and I will give you a complete account of the system\, and expound the actual teachings of the great explorer of the truth\, the master-builder of human happiness. No one rejects\, dislikes\, or avoids pleasure itself\, because it is pleasure\, but because those who do not know how to pursue pleasure rationally encounter consequences that are extremely painful. Nor again is there anyone who loves or pursues or desires to obtain pain of itself\, because it is pain\, but because occasionally circumstances occur in which toil and pain can procure him some great pleasure. To take a trivial example\, which of us ever undertakes laborious physical exercise\, except to obtain some advantage from it? But who has any right to find fault with a man who chooses to enjoy a pleasure that has no annoying consequences\, or one who avoids a pain that produces no resultant pleasure?
URL:/event/pharmacy-and-pharmaceutical-sciences-conference-2015/
LOCATION:International Medical University\, NY\, United States
CATEGORIES:Health Science,Pharmacy & Pharmacology
ATTACH;FMTTYPE=image/jpeg:/wp-content/uploads/2015/07/02.jpg
END:VEVENT
BEGIN:VEVENT
DTSTART;TZID=America/New_York:20150801T110000
DTEND;TZID=America/New_York:20150802T140000
DTSTAMP:20260421T143530
CREATED:20150720T132516Z
LAST-MODIFIED:20150720T132516Z
UID:2728-1438426800-1438524000@www.ojmedtech.com
SUMMARY:Pharmacy and Pharmaceutical Sciences Conference 2015
DESCRIPTION:But I must explain to you how all this mistaken idea of denouncing pleasure and praising pain was born and I will give you a complete account of the system\, and expound the actual teachings of the great explorer of the truth\, the master-builder of human happiness. No one rejects\, dislikes\, or avoids pleasure itself\, because it is pleasure\, but because those who do not know how to pursue pleasure rationally encounter consequences that are extremely painful. Nor again is there anyone who loves or pursues or desires to obtain pain of itself\, because it is pain\, but because occasionally circumstances occur in which toil and pain can procure him some great pleasure. To take a trivial example\, which of us ever undertakes laborious physical exercise\, except to obtain some advantage from it? But who has any right to find fault with a man who chooses to enjoy a pleasure that has no annoying consequences\, or one who avoids a pain that produces no resultant pleasure?
URL:/event/pharmacy-and-pharmaceutical-sciences-conference-2015-2/
LOCATION:International Medical University\, NY\, United States
CATEGORIES:Health Science,Pharmacy & Pharmacology
ATTACH;FMTTYPE=image/jpeg:/wp-content/uploads/2015/07/02.jpg
END:VEVENT
BEGIN:VEVENT
DTSTART;TZID=America/New_York:20150723T100000
DTEND;TZID=America/New_York:20150724T180000
DTSTAMP:20260421T143530
CREATED:20150720T145802Z
LAST-MODIFIED:20150720T145802Z
UID:973-1437645600-1437760800@www.ojmedtech.com
SUMMARY:2015 Los Angeles PCOS Symposium
DESCRIPTION:At vero eos et accusamus et iusto odio dignissimos ducimus qui blanditiis praesentium voluptatum deleniti atque corrupti quos dolores et quas molestias excepturi sint occaecati cupiditate non provident\, similique sunt in culpa qui officia deserunt mollitia animi\, id est laborum et dolorum fuga. Et harum quidem rerum facilis est et expedita distinctio. Nam libero tempore\, cum soluta nobis est eligendi optio cumque nihil impedit quo minus id quod maxime placeat facere possimus\, omnis voluptas assumenda est\, omnis dolor repellendus. Temporibus autem quibusdam et aut officiis debitis aut rerum necessitatibus saepe eveniet ut et voluptates repudiandae sint et molestiae non recusandae. Itaque earum rerum hic tenetur a sapiente delectus\, ut aut reiciendis voluptatibus maiores alias consequatur aut perferendis doloribus asperiores repellat.
URL:/event/2015-los-angeles-pcos-symposium/
LOCATION:Ronald Reagan UCLA Medical Center\, Los Angeles\, United States
CATEGORIES:Health Science
ATTACH;FMTTYPE=image/jpeg:/wp-content/uploads/2015/07/01.jpg
END:VEVENT
BEGIN:VEVENT
DTSTART;TZID=America/New_York:20150723T100000
DTEND;TZID=America/New_York:20150724T180000
DTSTAMP:20260421T143530
CREATED:20150720T145802Z
LAST-MODIFIED:20150720T145802Z
UID:2729-1437645600-1437760800@www.ojmedtech.com
SUMMARY:2015 Los Angeles PCOS Symposium
DESCRIPTION:At vero eos et accusamus et iusto odio dignissimos ducimus qui blanditiis praesentium voluptatum deleniti atque corrupti quos dolores et quas molestias excepturi sint occaecati cupiditate non provident\, similique sunt in culpa qui officia deserunt mollitia animi\, id est laborum et dolorum fuga. Et harum quidem rerum facilis est et expedita distinctio. Nam libero tempore\, cum soluta nobis est eligendi optio cumque nihil impedit quo minus id quod maxime placeat facere possimus\, omnis voluptas assumenda est\, omnis dolor repellendus. Temporibus autem quibusdam et aut officiis debitis aut rerum necessitatibus saepe eveniet ut et voluptates repudiandae sint et molestiae non recusandae. Itaque earum rerum hic tenetur a sapiente delectus\, ut aut reiciendis voluptatibus maiores alias consequatur aut perferendis doloribus asperiores repellat.
URL:/event/2015-los-angeles-pcos-symposium-2/
LOCATION:Ronald Reagan UCLA Medical Center\, Los Angeles\, United States
CATEGORIES:Health Science
ATTACH;FMTTYPE=image/jpeg:/wp-content/uploads/2015/07/01.jpg
END:VEVENT
END:VCALENDAR